BEGIN:VCALENDAR
VERSION:2.0
CALSCALE:GREGORIAN
PRODID:adamgibbons/ics
METHOD:PUBLISH
X-PUBLISHED-TTL:PT1H
BEGIN:VEVENT
UID:131@kviriem.lv
SUMMARY:Queer market - Spot the L*
DTSTAMP:20260423T133707Z
DTSTART:20260425T120000Z
DTEND:20260425T180000Z
DESCRIPTION:Open call for queer market participants. Is this YOU?\n\nLong t
	ime no see! The queer market is making its comeback during the lesbian*\nv
	isibility week!\n\n📍@skapis.riga [https://www.instagram.com/skapis.riga/] 
	(Aristida Briāna iela\n9a\, Rīga)\n🗓️ Saturday\, 25.04.2026 (information ab
	out the time coming soon)\nWant to participate? Fill in the registration f
	orm here:\nhttps://forms.gle/RPMw7x7dqDeysjJD6 [https://forms.gle/RPMw7x7d
	qDeysjJD6]\nFB Event: https://fb.me/e/6KU7OIBAD [https://fb.me/e/6KU7OIBAD
	]\n\nPack your things\, get ready to show what you have been up to and sha
	re the love!\nFill in the form which you will find above if you are willin
	g to offer your\ngoods/services to the rest of the LGBTQIA+/Queer communit
	y here in Riga and help\nthem find new home for your arts & crafts and all
	 other amazing things that you\nare willing to share!\n\nAt this queer mar
	ket you can exhibit and sell your own art\, such as handmade\ngoods\, zine
	s\, clothes\, jewelry\, prints\, ceramics\, music\, and/or any other\ncrea
	tions!\n\nCheers and see you soon!\n\nWhat does L* stand for?\nLesbian* re
	fers to cis\, trans and intersex women\, and non-binary persons who\nself-
	identify as lesbian\, bisexual and queer.\n\n#ActiveRainbow\n[https://www.
	facebook.com/hashtag/activerainbow?__cft__[0]=AZbPxzeu3RiMYpJkuA8Qoou6U6id
	aEn9fv2EQbcfSeY9z6VpSgq8zl1ZJmT4ql9xZqlEM6grIf4DUMOggDRZm1iiOmXgqLsvj3pmyv
	J_vOvWIqSR1f6A94d_hYGYcYe11K7BWVe3vl3NWELAvqiQzErWAFtOqWh3-iIfI8TrdxOC8HKn
	fqJJZWtKXmIHLh9iF1M&__tn__=*NK*F]\n#Lesbians\n[https://www.facebook.com/ha
	shtag/lesbians?__cft__[0]=AZbPxzeu3RiMYpJkuA8Qoou6U6idaEn9fv2EQbcfSeY9z6Vp
	Sgq8zl1ZJmT4ql9xZqlEM6grIf4DUMOggDRZm1iiOmXgqLsvj3pmyvJ_vOvWIqSR1f6A94d_hY
	GYcYe11K7BWVe3vl3NWELAvqiQzErWAFtOqWh3-iIfI8TrdxOC8HKnfqJJZWtKXmIHLh9iF1M&
	__tn__=*NK*F]\n#QueerJoy\n[https://www.facebook.com/hashtag/queerjoy?__cft
	__[0]=AZbPxzeu3RiMYpJkuA8Qoou6U6idaEn9fv2EQbcfSeY9z6VpSgq8zl1ZJmT4ql9xZqlE
	M6grIf4DUMOggDRZm1iiOmXgqLsvj3pmyvJ_vOvWIqSR1f6A94d_hYGYcYe11K7BWVe3vl3NWE
	LAvqiQzErWAFtOqWh3-iIfI8TrdxOC8HKnfqJJZWtKXmIHLh9iF1M&__tn__=*NK*F]\n#NonF
	ormalEducation\n[https://www.facebook.com/hashtag/nonformaleducation?__cft
	__[0]=AZbPxzeu3RiMYpJkuA8Qoou6U6idaEn9fv2EQbcfSeY9z6VpSgq8zl1ZJmT4ql9xZqlE
	M6grIf4DUMOggDRZm1iiOmXgqLsvj3pmyvJ_vOvWIqSR1f6A94d_hYGYcYe11K7BWVe3vl3NWE
	LAvqiQzErWAFtOqWh3-iIfI8TrdxOC8HKnfqJJZWtKXmIHLh9iF1M&__tn__=*NK*F]\n#Comm
	unity\n[https://www.facebook.com/hashtag/community?__cft__[0]=AZbPxzeu3RiM
	YpJkuA8Qoou6U6idaEn9fv2EQbcfSeY9z6VpSgq8zl1ZJmT4ql9xZqlEM6grIf4DUMOggDRZm1
	iiOmXgqLsvj3pmyvJ_vOvWIqSR1f6A94d_hYGYcYe11K7BWVe3vl3NWELAvqiQzErWAFtOqWh3
	-iIfI8TrdxOC8HKnfqJJZWtKXmIHLh9iF1M&__tn__=*NK*F]\n#Activism\n[https://www
	.facebook.com/hashtag/activism?__cft__[0]=AZbPxzeu3RiMYpJkuA8Qoou6U6idaEn9
	fv2EQbcfSeY9z6VpSgq8zl1ZJmT4ql9xZqlEM6grIf4DUMOggDRZm1iiOmXgqLsvj3pmyvJ_vO
	vWIqSR1f6A94d_hYGYcYe11K7BWVe3vl3NWELAvqiQzErWAFtOqWh3-iIfI8TrdxOC8HKnfqJJ
	ZWtKXmIHLh9iF1M&__tn__=*NK*F]\n#LGBTQIA\n[https://www.facebook.com/hashtag
	/lgbtqia?__cft__[0]=AZbPxzeu3RiMYpJkuA8Qoou6U6idaEn9fv2EQbcfSeY9z6VpSgq8zl
	1ZJmT4ql9xZqlEM6grIf4DUMOggDRZm1iiOmXgqLsvj3pmyvJ_vOvWIqSR1f6A94d_hYGYcYe1
	1K7BWVe3vl3NWELAvqiQzErWAFtOqWh3-iIfI8TrdxOC8HKnfqJJZWtKXmIHLh9iF1M&__tn__
	=*NK*F]\n#Youth\n[https://www.facebook.com/hashtag/youth?__cft__[0]=AZbPxz
	eu3RiMYpJkuA8Qoou6U6idaEn9fv2EQbcfSeY9z6VpSgq8zl1ZJmT4ql9xZqlEM6grIf4DUMOg
	gDRZm1iiOmXgqLsvj3pmyvJ_vOvWIqSR1f6A94d_hYGYcYe11K7BWVe3vl3NWELAvqiQzErWAF
	tOqWh3-iIfI8TrdxOC8HKnfqJJZWtKXmIHLh9iF1M&__tn__=*NK*F]\n#Queer\n[https://
	www.facebook.com/hashtag/queer?__cft__[0]=AZbPxzeu3RiMYpJkuA8Qoou6U6idaEn9
	fv2EQbcfSeY9z6VpSgq8zl1ZJmT4ql9xZqlEM6grIf4DUMOggDRZm1iiOmXgqLsvj3pmyvJ_vO
	vWIqSR1f6A94d_hYGYcYe11K7BWVe3vl3NWELAvqiQzErWAFtOqWh3-iIfI8TrdxOC8HKnfqJJ
	ZWtKXmIHLh9iF1M&__tn__=*NK*F]
URL:https://kviriem.lv/event/queer-market-spot-the-l
GEO:56.9652699;24.1308372
LOCATION:Skapis - Aristida Briāna iela 9A\, Centrs\, Rīga
STATUS:CONFIRMED
CATEGORIES:Trans*,Queer,Lesbian*,Bi*
X-ALT-DESC;FMTTYPE=text/html:<p>Open call for queer market participants. Is
	 this YOU?<br><br>Long time no see! The queer market is making its comebac
	k during the lesbian* visibility week!<br><br>📍<a target="_blank" href="ht
	tps://www.instagram.com/skapis.riga/">@skapis.riga</a> (Aristida Briāna ie
	la 9a, Rīga)<br>🗓️ Saturday, 25.04.2026 (information about the time coming 
	soon)<br>Want to participate? Fill in the registration form here: <a targe
	t="_blank" href="https://forms.gle/RPMw7x7dqDeysjJD6"><strong>https://form
	s.gle/RPMw7x7dqDeysjJD6</strong></a><br>FB Event: <a target="_blank" href=
	"https://fb.me/e/6KU7OIBAD"><strong>https://fb.me/e/6KU7OIBAD</strong></a>
	<br><br>Pack your things, get ready to show what you have been up to and s
	hare the love! Fill in the form which you will find above if you are willi
	ng to offer your goods/services to the rest of the LGBTQIA+/Queer communit
	y here in Riga and help them find new home for your arts &amp; crafts and 
	all other amazing things that you are willing to share!<br><br>At this que
	er market you can exhibit and sell your own art, such as handmade goods, z
	ines, clothes, jewelry, prints, ceramics, music, and/or any other creation
	s!<br><br>Cheers and see you soon!<br><br>What does L* stand for?<br>Lesbi
	an* refers to cis, trans and intersex women, and non-binary persons who se
	lf-identify as lesbian, bisexual and queer.<br><br><a target="_blank" href
	="https://www.facebook.com/hashtag/activerainbow?__cft__[0]=AZbPxzeu3RiMYp
	JkuA8Qoou6U6idaEn9fv2EQbcfSeY9z6VpSgq8zl1ZJmT4ql9xZqlEM6grIf4DUMOggDRZm1ii
	OmXgqLsvj3pmyvJ_vOvWIqSR1f6A94d_hYGYcYe11K7BWVe3vl3NWELAvqiQzErWAFtOqWh3-i
	IfI8TrdxOC8HKnfqJJZWtKXmIHLh9iF1M&amp;__tn__=*NK*F"><strong>#ActiveRainbow
	</strong></a> <a target="_blank" href="https://www.facebook.com/hashtag/le
	sbians?__cft__[0]=AZbPxzeu3RiMYpJkuA8Qoou6U6idaEn9fv2EQbcfSeY9z6VpSgq8zl1Z
	JmT4ql9xZqlEM6grIf4DUMOggDRZm1iiOmXgqLsvj3pmyvJ_vOvWIqSR1f6A94d_hYGYcYe11K
	7BWVe3vl3NWELAvqiQzErWAFtOqWh3-iIfI8TrdxOC8HKnfqJJZWtKXmIHLh9iF1M&amp;__tn
	__=*NK*F"><strong>#Lesbians</strong></a> <a target="_blank" href="https://
	www.facebook.com/hashtag/queerjoy?__cft__[0]=AZbPxzeu3RiMYpJkuA8Qoou6U6ida
	En9fv2EQbcfSeY9z6VpSgq8zl1ZJmT4ql9xZqlEM6grIf4DUMOggDRZm1iiOmXgqLsvj3pmyvJ
	_vOvWIqSR1f6A94d_hYGYcYe11K7BWVe3vl3NWELAvqiQzErWAFtOqWh3-iIfI8TrdxOC8HKnf
	qJJZWtKXmIHLh9iF1M&amp;__tn__=*NK*F"><strong>#QueerJoy</strong></a> <a tar
	get="_blank" href="https://www.facebook.com/hashtag/nonformaleducation?__c
	ft__[0]=AZbPxzeu3RiMYpJkuA8Qoou6U6idaEn9fv2EQbcfSeY9z6VpSgq8zl1ZJmT4ql9xZq
	lEM6grIf4DUMOggDRZm1iiOmXgqLsvj3pmyvJ_vOvWIqSR1f6A94d_hYGYcYe11K7BWVe3vl3N
	WELAvqiQzErWAFtOqWh3-iIfI8TrdxOC8HKnfqJJZWtKXmIHLh9iF1M&amp;__tn__=*NK*F">
	<strong>#NonFormalEducation</strong></a> <a target="_blank" href="https://
	www.facebook.com/hashtag/community?__cft__[0]=AZbPxzeu3RiMYpJkuA8Qoou6U6id
	aEn9fv2EQbcfSeY9z6VpSgq8zl1ZJmT4ql9xZqlEM6grIf4DUMOggDRZm1iiOmXgqLsvj3pmyv
	J_vOvWIqSR1f6A94d_hYGYcYe11K7BWVe3vl3NWELAvqiQzErWAFtOqWh3-iIfI8TrdxOC8HKn
	fqJJZWtKXmIHLh9iF1M&amp;__tn__=*NK*F"><strong>#Community</strong></a> <a t
	arget="_blank" href="https://www.facebook.com/hashtag/activism?__cft__[0]=
	AZbPxzeu3RiMYpJkuA8Qoou6U6idaEn9fv2EQbcfSeY9z6VpSgq8zl1ZJmT4ql9xZqlEM6grIf
	4DUMOggDRZm1iiOmXgqLsvj3pmyvJ_vOvWIqSR1f6A94d_hYGYcYe11K7BWVe3vl3NWELAvqiQ
	zErWAFtOqWh3-iIfI8TrdxOC8HKnfqJJZWtKXmIHLh9iF1M&amp;__tn__=*NK*F"><strong>
	#Activism</strong></a> <a target="_blank" href="https://www.facebook.com/h
	ashtag/lgbtqia?__cft__[0]=AZbPxzeu3RiMYpJkuA8Qoou6U6idaEn9fv2EQbcfSeY9z6Vp
	Sgq8zl1ZJmT4ql9xZqlEM6grIf4DUMOggDRZm1iiOmXgqLsvj3pmyvJ_vOvWIqSR1f6A94d_hY
	GYcYe11K7BWVe3vl3NWELAvqiQzErWAFtOqWh3-iIfI8TrdxOC8HKnfqJJZWtKXmIHLh9iF1M&
	amp;__tn__=*NK*F"><strong>#LGBTQIA</strong></a> <a target="_blank" href="h
	ttps://www.facebook.com/hashtag/youth?__cft__[0]=AZbPxzeu3RiMYpJkuA8Qoou6U
	6idaEn9fv2EQbcfSeY9z6VpSgq8zl1ZJmT4ql9xZqlEM6grIf4DUMOggDRZm1iiOmXgqLsvj3p
	myvJ_vOvWIqSR1f6A94d_hYGYcYe11K7BWVe3vl3NWELAvqiQzErWAFtOqWh3-iIfI8TrdxOC8
	HKnfqJJZWtKXmIHLh9iF1M&amp;__tn__=*NK*F"><strong>#Youth</strong></a> <a ta
	rget="_blank" href="https://www.facebook.com/hashtag/queer?__cft__[0]=AZbP
	xzeu3RiMYpJkuA8Qoou6U6idaEn9fv2EQbcfSeY9z6VpSgq8zl1ZJmT4ql9xZqlEM6grIf4DUM
	OggDRZm1iiOmXgqLsvj3pmyvJ_vOvWIqSR1f6A94d_hYGYcYe11K7BWVe3vl3NWELAvqiQzErW
	AFtOqWh3-iIfI8TrdxOC8HKnfqJJZWtKXmIHLh9iF1M&amp;__tn__=*NK*F"><strong><u>#
	Queer</u></strong></a></p>
BEGIN:VALARM
ACTION:DISPLAY
DESCRIPTION:Queer market - Spot the L*
TRIGGER:-PT1H
END:VALARM
END:VEVENT
END:VCALENDAR
