BEGIN:VCALENDAR
VERSION:2.0
CALSCALE:GREGORIAN
PRODID:adamgibbons/ics
METHOD:PUBLISH
X-PUBLISHED-TTL:PT1H
BEGIN:VEVENT
UID:130@kviriem.lv
SUMMARY:Openly Queer Mic: Lesbian* Edition
DTSTAMP:20260420T085712Z
DTSTART:20260424T163000Z
DESCRIPTION:Hello hello! Is it time for the next Openly Queer Mic?\n\n✨ Yes
	\, it absolutely is\, and this one is extra special… it’s our Lesbian*\nEd
	ition! 🧡 🤍 🩷\n\nAre you ready? ✨\n\n📍 @skapis.riga · Aristida Briāna iela 
	9a\, Centra rajons\, Rīga\, LV-1001\n\n🗓️ Friday\, 24 April at 19:30\n\n🗣️ L
	anguages: English (main)\, Latvian\n\n🎶 If you’d like to perform\, sign up
	 through our link in bio\n\nLesbian* Visibility Week is here\, and we’re c
	elebrating by centering voices that\ndeserve to be heard\, seen\, and upli
	fted. 🌈\n\nThis Openly Queer Mic is dedicated to lesbian* stories\, the lo
	ve\, the\nheartbreak\, the joy\, the pain\, the experiences\, the moments 
	that shape us.\n\nHave something to share?\n\n- Your love story\n\n- Your 
	heartbreak\n\n- Your coming out journey\n\n- Your jokes\n\n- That time peo
	ple said “you’re sisters\, right?”\n\nThe mic is yours. The theme is open.
	\n\n🎤 Sign up via the form (link in bio) and tell us what you’d like to sh
	are.\n\nSpots are limited\, so we may not be able to include everyone this
	 time but more\nOpenly Queer Mics are coming! 🧡 🤍 🩷\n\nAfter the mic\, sta
	y with us and keep the night going\, we’re turning it into a\ncelebration 
	✨\n\n🌟 This is a warm\, inclusive space for the LGBTQIA+ community and all
	ies.\n\nCome as you are\, connect\, share\, and let’s celebrate queer and 
	lesbian* joy\ntogether!\n\n📸 Photos and videos will be taken during the ev
	ent.\n\n🤩 See you there !\n\n_______________________\n\nℹ️ What does L* sta
	nd for?\n\nLesbian* refers to cis\, trans and intersex women\, and non-bin
	ary persons who\nself-identify as lesbian\, bisexual and queer.
URL:https://kviriem.lv/event/openly-queer-mic-lesbian-edition
GEO:56.9652699;24.1308372
LOCATION:Skapis - Aristida Briāna iela 9A\, Centrs\, Rīga
STATUS:CONFIRMED
CATEGORIES:Queer,Lesbian*
X-ALT-DESC;FMTTYPE=text/html:<p>Hello hello! Is it time for the next Openly
	 Queer Mic?</p><p>✨ Yes, it absolutely is, and this one is extra special… 
	it’s our Lesbian* Edition! 🧡 🤍 🩷</p><p>Are you ready? ✨</p><p>📍 @skapis.ri
	ga · Aristida Briāna iela 9a, Centra rajons, Rīga, LV-1001</p><p>🗓️ Friday,
	 24 April at 19:30</p><p>🗣️ Languages: English (main), Latvian</p><p>🎶 If y
	ou’d like to perform, sign up through our link in bio</p><p>Lesbian* Visib
	ility Week is here, and we’re celebrating by centering voices that deserve
	 to be heard, seen, and uplifted. 🌈</p><p>This Openly Queer Mic is dedicat
	ed to lesbian* stories, the love, the heartbreak, the joy, the pain, the e
	xperiences, the moments that shape us.</p><p>Have something to share?</p><
	p>- Your love story</p><p>- Your heartbreak</p><p>- Your coming out journe
	y</p><p>- Your jokes</p><p>- That time people said “you’re sisters, right?
	”</p><p>The mic is yours. The theme is open.</p><p>🎤 Sign up via the form 
	(link in bio) and tell us what you’d like to share.</p><p>Spots are limite
	d, so we may not be able to include everyone this time but more Openly Que
	er Mics are coming! 🧡 🤍 🩷</p><p>After the mic, stay with us and keep the n
	ight going, we’re turning it into a celebration ✨</p><p>🌟 This is a warm, 
	inclusive space for the LGBTQIA+ community and allies.</p><p>Come as you a
	re, connect, share, and let’s celebrate queer and lesbian* joy together!</
	p><p>📸 Photos and videos will be taken during the event.</p><p>🤩 See you t
	here !</p><p>_______________________</p><p>ℹ️ What does L* stand for?</p><p
	>Lesbian* refers to cis, trans and intersex women, and non-binary persons 
	who self-identify as lesbian, bisexual and queer.</p>
BEGIN:VALARM
ACTION:DISPLAY
DESCRIPTION:Openly Queer Mic: Lesbian* Edition
TRIGGER:-PT1H
END:VALARM
END:VEVENT
END:VCALENDAR
